Workbook

Sheet Неон
B1: Перечень неликвидов АО "Неон" | L1: Утверждено: УД по предприятию
A4: №п/п | B4: Группа НА (ТМЦ/ОС/Отходы) | C4: Учетный номер | D4: Наименование | E4: Кол-во | F4: ЕИ | G4: Остаточная / учетная стоимость | I4: Дата поступления | J4: Фактическая цена реализации, руб. без НДС | L4: Группа номенклатуры | M4: Техническое состояние | N4: Статус по вовлечению и реализации | O4: Срок | P4: Стаус по наполнению Маркет РМ Рейл
C5: (Номенкл. / Инвен.) | G5: За единицу | H5: Сумма | K5: Отклонение, руб. без НДС
G6: (руб. без НДС) | H6: (руб. без НДС)
A7: 1 | B7: 2 | C7: 3 | D7: 4 | E7: 5 | F7: 6 | G7: 7 | H7: 8 | I7: 9 | L7: 10 | M7: 11 | N7: 12 | O7: 13 | P7: 14
A8: 1 | B8: ТМЦ | C8: 119695 | D8: Магнит ТИВБ 15.15.89 А5.0А | E8: 836 | F8: шт. | G8: 708.44976 | H8: 592264 | I8: 43927 | K8: =J8-G8 -> -708.44976 | L8: Комплктующие | M8: Новое, не бывшее в употреблении | P8: 07.08.2025г.
A9: =A8+1 -> 2 | B9: ТМЦ | C9: 119682 | D9: Магнит кольцо ТИВБ 60.25.9 А5.0А | E9: 21340 | F9: шт. | G9: 25.374836 | H9: 541499 | I9: 43936 | K9: =J9-G9 -> -25.374836 | L9: Комплктующие | M9: Новое, не бывшее в употреблении | P9: 07.08.2025г.
A10: =A9+1 -> 3 | B10: ТМЦ | C10: 119698 | D10: Магнит ТИВБ 25.31.94 А5.0А | E10: 251 | F10: шт. | G10: 1464.3147 | H10: 367543 | I10: 43465 | K10: =J10-G10 -> -1464.3147 | L10: Комплктующие | M10: Новое, не бывшее в употреблении | P10: 07.08.2025г.
A11: =A10+1 -> 4 | B11: ТМЦ | C11: 130695 | D11: Плата печатная PS-BOARD SR57 для Fronius | E11: 5 | F11: шт. | G11: 5 | H11: 138150 | I11: 43593 | K11: =J11-G11 -> -5 | L11: Запчасти | M11: Новое, не бывшее в употреблении | N11: вовлечено | O11: Июль
A12: =A11+1 -> 5 | B12: ТМЦ | C12: 119672 | D12: Магнит М16БА190-7 П84х64х10 ПЯО 707.135 | E12: 4326 | F12: шт. | G12: 25.659501 | H12: 111003 | I12: 43790 | K12: =J12-G12 -> -25.659501 | L12: Комплктующие | M12: Новое, не бывшее в употреблении | P12: 07.08.2025г.
A13: =A12+1 -> 6 | B13: ТМЦ | C13: 103900 | D13: Резак механизированный плазменно-дуговой Duramax 180°, 15,2м для Powermax 85 | E13: 1 | F13: шт. | G13: 102631 | H13: 102631 | I13: 44862 | K13: =J13-G13 -> -102631 | L13: Запчасти | M13: Новое, не бывшее в употреблении | N13: реализация | O13: 45900
A14: =A13+1 -> 7 | B14: ТМЦ | C14: 119696 | D14: Магнит ТИВБ 73.12 А5.0А | E14: 267 | F14: шт. | G14: 350.3633 | H14: 93547 | I14: 43465 | K14: =J14-G14 -> -350.3633 | L14: Комплктующие | M14: Новое, не бывшее в употреблении | P14: 07.08.2025г.
A15: =A14+1 -> 8 | B15: ТМЦ | C15: 125066 | D15: Плата печатная PC-BOARD ER 57 для Fronius | E15: 7 | F15: шт. | G15: 7 | H15: 90065.68 | I15: 43593 | K15: =J15-G15 -> -7 | L15: Запчасти | M15: Новое, не бывшее в употреблении | N15: вовлечено | O15: Июль
A16: =A15+1 -> 9 | B16: ТМЦ | C16: 192834 | D16: Ушко 9814.01.01.233 | E16: 504 | F16: шт. | G16: 157.00964 | H16: 79132.86 | I16: 45302 | K16: =J16-G16 -> -157.00964 | L16: Комплктующие | M16: Списание | N16: списание | O16: 45900
A17: =A16+1 -> 10 | B17: ТМЦ | C17: 33841 | D17: Уплотнение 1244.01.01.211 | E17: 202 | F17: шт. | G17: 217.26752 | H17: 43888.04 | I17: 45343 | K17: =J17-G17 -> -217.26752 | L17: Комплктующие | M17: Списание | N17: списание | O17: 45900
A18: =A17+1 -> 11 | B18: ТМЦ | C18: 284878 | D18: Ушко 9814.01.01.271 | E18: 403 | F18: шт. | G18: 95.00464 | H18: 38286.87 | I18: 45310 | K18: =J18-G18 -> -95.00464 | L18: Комплктующие | M18: Списание | N18: списание | O18: 45900
A19: =A18+1 -> 12 | B19: ТМЦ | C19: 1921 | D19: Флюс UF-02 ТУ 5929-052-00186654-2013 | E19: 250 | F19: кг. | G19: 145.096 | H19: 36274 | I19: 45252 | K19: =J19-G19 -> -145.096 | L19: Продукция электродной и твердосплавной промышленности | M19: Списание | N19: списание | O19: 45900
A20: =A19+1 -> 13 | B20: ТМЦ | C20: 152670 | D20: Болт 1259.09.00.001 | E20: 177 | F20: шт. | G20: 145.01147 | H20: 25667.03 | I20: 45447 | K20: =J20-G20 -> -145.01147 | L20: Комплктующие | M20: Новое, не бывшее в употреблении | N20: реализация | O20: 45900
A21: =A20+1 -> 14 | B21: ТМЦ | C21: 171881 | D21: Втулка 1259.09.02.002 | E21: 477 | F21: шт. | G21: 44.043753 | H21: 21008.87 | I21: 04..06.2024 | K21: =J21-G21 -> -44.043753 | L21: Комплктующие | M21: Новое, не бывшее в употреблении | N21: реализация | O21: 45900
A22: =A21+1 -> 15 | B22: ТМЦ | C22: 354830 | D22: Поперечина 9814.01.01.228 | E22: 253 | F22: шт. | G22: 82.529644 | H22: 20880 | I22: 45322 | K22: =J22-G22 -> -82.529644 | L22: Комплктующие | M22: Списание | N22: списание | O22: 45900
A23: =A22+1 -> 16 | B23: ТМЦ | C23: 171884 | D23: Уплотнение 1259.04.00.007П-01 | E23: 45 | F23: шт. | G23: 416.66244 | H23: 18749.81 | I23: 45407 | K23: =J23-G23 -> -416.66244 | L23: Комплктующие | M23: Новое, не бывшее в употреблении | P23: 07.08.2025г.
A24: =A23+1 -> 17 | B24: ТМЦ | C24: 253275 | D24: Клей-герметик Виладекс-451 ТУ 20.30.22-194-22736960-2017 | E24: 22.5 | F24: кг. | G24: 812.64578 | H24: 18284.53 | I24: 45287 | K24: =J24-G24 -> -812.64578 | L24: Материалы лакокрасочные,клей | M24: Списание | N24: списание | O24: 45900
A25: =A24+1 -> 18 | B25: ТМЦ | C25: 33841 | D25: Уплотнение 1244.01.01.211 | E25: 84 | F25: шт. | G25: 217.26929 | H25: 18250.62 | I25: 45343 | K25: =J25-G25 -> -217.26929 | L25: Комплктующие | M25: Новое, не бывшее в употреблении | P25: 07.08.2025г.
A26: =A25+1 -> 19 | B26: ТМЦ | C26: 115820 | D26: Втулка 1217У.01.01.006 | E26: 525 | F26: шт. | G26: 34.257962 | H26: 17985.43 | I26: 45309 | K26: =J26-G26 -> -34.257962 | L26: Комплктующие | M26: Новое, не бывшее в употреблении | P26: 07.08.2025г.
A27: =A26+1 -> 20 | B27: ТМЦ | C27: 171884 | D27: Уплотнение 1259.04.00.007П-01 | E27: 32 | F27: шт. | G27: 416.66781 | H27: 13333.37 | I27: 45407 | K27: =J27-G27 -> -416.66781 | L27: Комплктующие | M27: Списание | N27: списание | O27: 45900
A28: =A27+1 -> 21 | B28: ТМЦ | C28: 117074 | D28: Шнур ШВВП 2х0,5 ГОСТ 7399-97 черный | E28: 400 | F28: шт. | G28: 18.672852 | H28: 7469.1408 | I28: 44350 | K28: =J28-G28 -> -18.672852 | L28: Продукция электротехническая | M28: Новое, не бывшее в употреблении | P28: 07.08.2025г.
A29: =A28+1 -> 22 | B29: ТМЦ | C29: 122309 | D29: Болт 1217У.01.01.018 | E29: 466 | F29: шт. | G29: 14.535451 | H29: 6773.52 | I29: 45310 | K29: =J29-G29 -> -14.535451 | L29: Комплктующие | M29: Новое, не бывшее в употреблении | P29: 07.08.2025г.
A30: =A29+1 -> 23 | B30: ТМЦ | C30: 117689 | D30: Трубка термоусаживаемая Радиант 135нг ф6.0/2.0 (черная) SAE-AMS-DTL-23053/5 Class 1 | E30: 67.4 | F30: м. | G30: 84.584866 | H30: 5701.02 | I30: 44342 | K30: =J30-G30 -> -84.584866 | L30: Комплктующие | M30: Новое, не бывшее в употреблении | P30: 07.08.2025г.
A31: =A30+1 -> 24 | B31: ТМЦ | C31: 32940 | D31: Трубка 305 ТВ-40А. 6,0. белая. высшего сорта ГОСТ 19034-82 | E31: 1265.05 | F31: м. | G31: 2.2536501 | H31: 2850.98 | I31: 43495 | K31: =J31-G31 -> -2.2536501 | L31: Комплктующие | M31: Новое, не бывшее в употреблении | P31: 07.08.2025г.
A32: =A31+1 -> 25 | B32: ТМЦ | C32: 116363 | D32: Трубка 305 ТВ-40. 5,0. белая. высшего сорта ГОСТ 19034-82 | E32: 1073.75 | F32: м. | G32: 1.6065285 | H32: 1725.01 | I32: 43495 | K32: =J32-G32 -> -1.6065285 | L32: Комплктующие | M32: Новое, не бывшее в употреблении | P32: 07.08.2025г.
A33: =A32+1 -> 26 | B33: ТМЦ | C33: 181731 | D33: Шайба 1259.09.02.003 | E33: 285 | F33: шт. | G33: 5 | H33: 1425 | I33: 45447 | K33: =J33-G33 -> -5 | L33: Комплктующие | M33: Списание | N33: списание | O33: 45900
A34: =A33+1 -> 27 | B34: ТМЦ | C34: 116353 | D34: Трубка 305 ТВ-40. 3,0. белая. высшего сорта ГОСТ 19034-82 | E34: 1096.91 | F34: м. | G34: 0.7328769 | H34: 803.9 | I34: 43495 | K34: =J34-G34 -> -0.7328769 | L34: Комплктующие | M34: Новое, не бывшее в употреблении | P34: 07.08.2025г.
A35: =A34+1 -> 28 | B35: ТМЦ | C35: 181731 | D35: Шайба 1259.09.02.003 | E35: 173 | F35: шт. | G35: 5 | H35: =E35*G35 -> 865 | I35: 45447 | K35: =J35-G35 -> -5 | L35: Комплктующие | M35: Новое, не бывшее в употреблении | N35: реализация | O35: 45900
A36: =A35+1 -> 29 | B36: ТМЦ | C36: 189201 | D36: Шплинт 4х40.05 ГОСТ 397-79 | E36: 967 | F36: шт. | G36: 0.7279627 | H36: =E36*G36 -> 703.93993 | I36: 45307 | K36: =J36-G36 -> -0.7279627 | L36: Металлоизделия промышленного назначения (метизы и крепеж) | M36: Новое, не бывшее в употреблении | N36: реализация | O36: 45900
A37: =A36+1 -> 30 | B37: ТМЦ | C37: 4067 | D37: Шплинт 4х40 ГОСТ 397-79 | E37: 304 | F37: шт. | G37: 0.73684211 | H37: 224 | I37: 45409 | K37: =J37-G37 -> -0.73684211 | L37: Металлоизделия промышленного назначения (метизы и крепеж) | M37: Новое, не бывшее в употреблении | N37: вовлечено | O37: Июль
A38: =A37+1 -> 31 | B38: ТМЦ | C38: 171881 | D38: Втулка 1259.09.02.002 | E38: 3 | F38: шт. | G38: 44.043333 | H38: 132.13 | I38: 04..06.2024 | K38: =J38-G38 -> -44.043333 | L38: Комплктующие | M38: Списание | N38: списание | O38: 45900
A39: ИТОГО | H39: =SUM(H8:H38) -> 2417117.8
A40: * Действителен до возникновения потребности в актуализации
G41: Реализовано
G42: План реализации | H42: =H13+H20+H21+H35+H36 -> 150875.84
...

Sheet АВМ-общая
D2: Статус по наполнению Маркет РМ Рейл
A3: Учетный номер | B3: Наименование | C3: ЕИ
A6: 3 | B6: 4 | C6: 5 | D6: 75
A7: 387250 | B7: Шарнир с учетом полимерной втулки RS-HBS 01A | C7: шт | D7: https://market.rmrail.ru/admin/marketplace/publication/f3c43ea4-30fc-4f9a-ba27-dd0342942757/change/?_changelist_filters=company__id__exact%3D00ec37c9-522d-4933-801d-5d91d5d5ca1b%26q%3D%25D1%2588%25D0%25B0%25D1%2580%25D0%25BD%25D0%25B8%25D1%2580
A8: 177618 | B8: Устройство запорное SJ-13BF L-2376мм | C8: компл | D8: https://market.rmrail.ru/admin/marketplace/publication/058b542c-5c70-43ca-a615-d2470806fe8c/change/?_changelist_filters=company__id__exact%3D00ec37c9-522d-4933-801d-5d91d5d5ca1b%26q%3D%25D0%25B7%25D0%25B0%25D0%25BF%25D0%25BE%25D1%2580
A9: 366309 | B9: Профиль 120х60х4 L=12000 ГОСТ 30245-2003 345 09Г2С-14 ГОСТ 19281-2014 | C9: м | D9: https://market.rmrail.ru/admin/marketplace/publication/870a8067-0ba1-44d6-810b-01b0dd14d126/change/?_changelist_filters=company__id__exact%3D00ec37c9-522d-4933-801d-5d91d5d5ca1b%26q%3D%25D0%25BF%25D1%2580%25D0%25BE%25D1%2584%25D0%25B8%25D0%25BB%25D1%258C%2B120
A10: 137784 | B10: Комплект резиновых уплотнений контейнера типоразмера 1СС 16.20.40.00.000-02 | C10: шт | D10: https://market.rmrail.ru/admin/marketplace/publication/9a5e0f8e-6b25-4859-82a9-86d08cde25a3/change/?_changelist_filters=company__id__exact%3D00ec37c9-522d-4933-801d-5d91d5d5ca1b
A11: 262677 | B11: Профиль 160х160х6 L=12000 ГОСТ 30245-2003 345 09Г2С-15 ГОСТ 19281-2014 | C11: м | D11: https://market.rmrail.ru/admin/marketplace/publication/d1ca07d0-f9d9-4d3f-a50f-b1bac5636eb6/change/?_changelist_filters=company__id__exact%3D00ec37c9-522d-4933-801d-5d91d5d5ca1b
A12: 159920 | B12: Профиль 120х120х6 L=12000 ГОСТ 30245-2003 345 09Г2С-15 ГОСТ 19281-2014 | C12: м | D12: https://market.rmrail.ru/admin/marketplace/publication/a501e714-f5f6-4eed-abfa-46d10c017d85/change/?_changelist_filters=company__id__exact%3D00ec37c9-522d-4933-801d-5d91d5d5ca1b%26q%3D%25D0%25BF%25D1%2580%25D0%25BE%25D1%2584%25D0%25B8%25D0%25BB%25D1%258C%2B120
A13: 205754 | B13: Композиция антикоррозийная Ямал-25 RAL 3011 коричнево-красный ТУ 2313-004-56421682-2005 | C13: кг | D13: https://market.rmrail.ru/admin/marketplace/publication/fab926eb-e005-4b3c-99f7-bd499cf6d0d0/change/?_changelist_filters=company__id__exact%3D00ec37c9-522d-4933-801d-5d91d5d5ca1b%26q%3D%25D1%258F%25D0%25BC%25D0%25B0%25D0%25BB
A14: 354717 | B14: Лист Б-ПН-НО-4,5х1450х2312 ГОСТ 19903-2015 345-14-09Г2С-ГС ГОСТ 19281-2014 | C14: кг | D14: https://market.rmrail.ru/admin/marketplace/publication/19139653-218f-423c-b807-b03a5c9ad8ec/change/?_changelist_filters=company__id__exact%3D00ec37c9-522d-4933-801d-5d91d5d5ca1b%26q%3D%25D0%25BB%25D0%25B8%25D1%2581%25D1%2582
A15: 387247 | B15: Опора шарнира Hinge Lug | C15: шт | D15: https://market.rmrail.ru/admin/marketplace/publication/bd2e98d2-c0d2-4dce-a951-4bcefd483352/change/?_changelist_filters=company__id__exact%3D00ec37c9-522d-4933-801d-5d91d5d5ca1b%26q%3D%25D0%25BE%25D0%25BF%25D0%25BE%25D1%2580%25D0%25B0
A16: 365983 | B16: Стержень шарнира RS-HBS-05 (12х108 мм) 08Х13 ГОСТ 5949-2013 | C16: шт | D16: https://market.rmrail.ru/avito/publication/8ca1bbea-07a9-4600-ac6b-956625e79f47/?publication_id=b0fb6f7a-1c17-4de2-9abb-a7e9e7613763
A17: 315084 | B17: Профиль 100х100х4 L=12000 ГОСТ 30245-2003 345 09Г2С-15 ГОСТ 19281-2014 | C17: м | D17: https://market.rmrail.ru/admin/marketplace/publication/23589945-bfc4-46e6-9248-ef6d83493174/change/?_changelist_filters=company__id__exact%3D00ec37c9-522d-4933-801d-5d91d5d5ca1b%26q%3D%25D0%25BF%25D1%2580%25D0%25BE%25D1%2584%25D0%25B8%25D0%25BB%25D1%258C
A18: 125364 | B18: Костюм брезентовый со спилком | C18: шт. | D18: https://market.rmrail.ru/admin/marketplace/publication/531513da-afc8-4070-9315-70ab3378f538/change/?_changelist_filters=company__id__exact%3D00ec37c9-522d-4933-801d-5d91d5d5ca1b
... A58: 258730 | B58: Ножницы садовые | C58: шт. | D58: https://market.rmrail.ru/admin/marketplace/publication/8d1f9702-3b7e-4cac-a31c-f7a74e1365ed/change/?_changelist_filters=company__id__exact%3D00ec37c9-522d-4933-801d-5d91d5d5ca1b%26q%3D%25D0%25BD%25D0%25BE%25D0%25B6%25D0%25BD%25D0%25B8%25D1%2586%25D1%258B

Sheet Динамика
A2: Динамика движения неликвидных ТМЦ за период АВМ
A3: Предприятие холдинга | B3: 01.07.2025 | D3: Перешло в неликвиды за период (+)/Исключено из неликвидов (-) | F3: Реализация июль факт | H3: Списание июль факт | J3: Вовлечение июль факт | L3: 01.08.2025 | N3: Перешло в неликвиды за период (+)/ Исключено из неликвидов (-) | P3: Реализация август факт | R3: Списание август факт | T3: Вовлечение август факт | V3: 01.09.2025 | X3: Перешло в неликвиды за период (+)/Исключено из неликвидов (-) | Z3: Реализация сентябрь | AB3: Списание сентябрь | AD3: Вовлечение сентябрь | AF3: 01.10.2025 | AH3: Перешло в неликвиды за период (+)/Исключено из неликвидов (-) | AJ3: Реализация план октябрь | AL3: Списание план октябрь | AN3: Вовлечение план октябрь | AP3: 01.11.2025
B4: Кол-во | C4: сумма, руб. без НДС | D4: кол-во поз. | E4: сумма, руб. без НДС | F4: кол-во поз. | G4: сумма, руб. без НДС | H4: кол-во поз. | I4: сумма, руб. без НДС | J4: кол-во поз. | K4: сумма, руб. без НДС | L4: Кол-во | M4: сумма, руб. без НДС | N4: Кол-во | O4: сумма, руб. без НДС | P4: Кол-во | Q4: сумма, руб. без НДС | R4: Кол-во | S4: сумма, руб. без НДС | T4: Кол-во | U4: сумма, руб. без НДС | V4: Кол-во | W4: сумма, руб. без НДС | X4: кол-во поз. | Y4: сумма, руб. без НДС | Z4: кол-во поз. | AA4: сумма, руб. без НДС | AB4: кол-во поз. | AC4: сумма, руб. без НДС | AD4: кол-во поз. | AE4: сумма, руб. без НДС | AF4: Кол-во | AG4: сумма, руб. без НДС | AH4: кол-во поз. | AI4: сумма, руб. без НДС | AJ4: кол-во поз. | AK4: сумма, руб. без НДС | AL4: кол-во поз. | AM4: сумма, руб. без НДС | AN4: кол-во поз. | AO4: сумма, руб. без НДС | AP4: Кол-во | AQ4: сумма, руб. без НДС
A5: АО АВМ | B5: ='АВМ-общая'!#REF! -> #REF! | C5: ='АВМ-общая'!#REF! -> #REF! | D5: -71 | E5: =-'АВМ-общая'!#REF! -> #REF! | F5: 2 | G5: ='АВМ-общая'!#REF! -> #REF! | J5: =35 -> 35 | K5: ='АВМ-общая'!#REF! -> #REF! | L5: 128 | M5: ='АВМ-общая'!#REF! -> #REF! | N5: -1 | O5: -389587.77 | P5: 6 | Q5: 232744.71 | S5: 0 | T5: 39 | U5: ='АВМ-общая'!#REF! -> #REF! | V5: =121 -> 121 | W5: =M5+O5-Q5-S5-U5 -> #REF! | X5: -1 | Y5: =-'АВМ-общая'!#REF! -> #REF! | Z5: 1 | AA5: ='АВМ-общая'!#REF! -> #REF! | AC5: ='АВМ-общая'!#REF! -> #REF! | AD5: 49 | AE5: ='АВМ-общая'!#REF! -> #REF! | AF5: 111 | AG5: =W5-AA5-AC5-AE5+Y5 -> #REF! | AI5: =-'АВМ-общая'!#REF! -> #REF! | AJ5: 12 | AK5: ='АВМ-общая'!#REF! -> #REF! | AM5: ='АВМ-общая'!#REF! -> #REF! | AN5: 1 | AO5: ='АВМ-общая'!#REF! -> #REF! | AP5: 110 | AQ5: =AG5+AI5-AK5-AM5-AO5 -> #REF!
M7: =M5-C5 -> #REF! | W7: =W5-M5 -> #REF! | AG7: =AG5-W5 -> #REF! | AQ7: =AQ5-AG5 -> #REF!
M8: =M7/C5 -> #REF! | W8: =W7/M5 -> #REF! | AG8: =AG7/W5 -> #REF! | AQ8: =AQ7/AG5 -> #REF!

Sheet РЗХМ
L1: Утверждаю
L2: И.О. Управяющего директора
N4: Артюшина Т.С.
B6: Перечень неликвидов АО "Рузхиммаш" по состоянию на 01.06.2025г.*
A8: № п/п | B8: Группа НА (ТМЦ/ ОС/ Отходы) | C8: Учетный номер | D8: Наименование | E8: Кол-во | F8: ЕИ | G8: Остаточная / учетная стоимость | I8: Фактическая цена реализации, руб. без НДС | K8: Дата поступления | L8: Группа номенклатуры | M8: Покупатель | N8: Техническое состояние | O8: Статус по вовлечению и реализации | P8: Срок | Q8: Стаус по наполнению Маркет РМ Рейл
C9: (Номенкл. / Инвен.) | G9: За единицу | H9: Сумма | J9: Отклонение, руб. без НДС
G10: (руб. без НДС) | H10: (руб. без НДС)
A11: 1 | B11: 2 | C11: 3 | D11: 4 | E11: 5 | F11: 6 | G11: 7 | H11: 8 | K11: 9 | L11: 10 | N11: 11 | O11: 12 | P11: 13 | Q11: 14
A12: =1 -> 1 | B12: ТМЦ | C12: 284841 | D12: Лист А-ПВ-О-9х2000х8000 ГОСТ 19903-2015 345-14-09Г2С-ГС-УЗК1 ГОСТ 19281-2014 | E12: 229606.9 | F12: кг | G12: 57.23 | H12: 13140403 | J12: =I12-G12 -> -57.23 | K12: 45189 | L12: Металлопрокат | N12: новое | Q12: Выполнено
A13: =A12+1 -> 2 | B13: ТМЦ | C13: 325572 | D13: Рулон АТ-АШ-О-0,8х1250 ГОСТ 19904-90 345-III-09Г2С-ГС ГОСТ 17066-94 | E13: 48320 | F13: кг | G13: 69.91 | H13: 3378051.2 | J13: =I13-G13 -> -69.91 | K13: 45105 | L13: Металлопрокат | N13: новое | O13: План реализации | P13: 45900
A14: =A13+1 -> 3 | B14: ТМЦ | C14: 0000185455 | D14: Лист Б-ПН-О-28х2000х11000 ГОСТ 19903-2015 09Г2С-св-14-УЗК1-Н ГОСТ 5520-2017 | E14: 50097.333 | F14: кг | G14: 55.31 | H14: 2770883.5 | J14: =I14-G14 -> -55.31 | K14: 14.02.2023 25.02.2023 20.03.2023 | L14: Металлопрокат | N14: новое | O14: План реализации | P14: 45900
A15: =A14+1 -> 4 | B15: Отходы | C15: 0000355309 | D15: Лист O-N1-10х350х6000 ASTM A240/A480 316L ASTM A240/A480 (отход) | E15: 13378.797 | F15: кг | G15: 160 | H15: 2140607.5 | I15: 135 | J15: =I15-G15 -> -25 | K15: 29.02.2024 20.03.2024 | L15: Металлопрокат нерж. | N15: новое | O15: Реализация (факт) | P15: 45839 | Q15: Не требуется
A16: =A15+1 -> 5 | B16: ТМЦ | C16: 0000132660 | D16: Скользун нижний ВМ 003.100 | E16: 127 | F16: шт | G16: 16744.307 | H16: 2126527 | J16: =I16-G16 -> -16744.307 | K16: 45232 | L16: Покупные комплектующие | N16: новое
A17: =A16+1 -> 6 | B17: Отходы | C17: 314776 | D17: Лист N1-8х1500х2500 ASTM A240/A240M:2014 321 ASTM A480 Ed.2011 (отход) | E17: 17640 | F17: кг | G17: 116 | H17: 2046240 | I17: 116.67 | J17: =I17-G17 -> 0.67 | K17: 45131 | L17: Металлопрокат нерж. | N17: новое | O17: Реализация (факт) | P17: 45839 | Q17: Не требуется
A18: =A17+1 -> 7 | B18: ТМЦ | C18: 0000335083 | D18: Плита АД0 85х1500х750 ГОСТ 17232-2023 | E18: 3885 | F18: кг | G18: 508.57143 | H18: 1975800 | J18: =I18-G18 -> -508.57143 | K18: 45435 | L18: Цветной металлопрокат | N18: новое | Q18: Выполнено
A19: =A18+1 -> 8 | B19: ТМЦ | C19: 0000005713 | D19: Лист ДПРНМ 5,0х600х1500 Л63 ГОСТ 2208-2007 | E19: 2358.847 | F19: кг | G19: 796.36254 | H19: 1878497.4 | J19: =I19-G19 -> -796.36254 | K19: 15.08.2023 18.08.2023 21.08.2023 04.09.2023 | L19: Цветной металлопрокат | N19: новое
A20: =A19+1 -> 9 | B20: ТМЦ | C20: 0000035221 | D20: 9889.00.00.000-03 Тележка двухосная 3-х элементная | E20: 1 | F20: шт | G20: 1730294.6 | H20: 1730294.6 | J20: =I20-G20 -> -1730294.6 | K20: 42735 | L20: Полуфабрикаты | N20: новое | O20: Храним 10 лет. Опытные | Q20: Не требуется
A21: =A20+1 -> 10 | B21: ТМЦ | C21: 0000205204 | D21: 9891.02.00.000 Балка надрессорная | E21: 11 | F21: шт | G21: 154032.44 | H21: 1694356.8 | J21: =I21-G21 -> -154032.44 | K21: 45351 | L21: Покупные | N21: новое | O21: Списание (план) | P21: 45900 | Q21: Не требуется
A22: =A21+1 -> 11 | B22: ТМЦ | C22: 0000214414 | D22: Лист обшивы крайний 1268.01.05.101-01 | E22: 102 | F22: шт | G22: 15761.676 | H22: 1607691 | J22: =I22-G22 -> -15761.676 | K22: 25.01.2022 26.01.2022 10.03.2022 | L22: Покупные комплектующие | N22: новое
A23: =A22+1 -> 12 | B23: ТМЦ | C23: 0000067197 | D23: Пруток присадочный ф2,4 Sandvik 24.13 LSi EN ISO 14343-A 23 12 L Si | E23: 2020 | F23: кг | G23: 780 | H23: 1575600 | J23: =I23-G23 -> -780 | K23: 07.12.2017 25.01.2018 14.02.2018 28.06.2018 | L23: Материалы сварочные | N23: новое | Q23: Выполнено
A24: =A23+1 -> 13 | B24: ТМЦ | C24: 0000343633 | D24: Труба ДКРНП 60х4х3350 Л63 ГОСТ 494-2014 | E24: 479.8 | F24: кг | G24: 3075 | H24: 1475385 | J24: =I24-G24 -> -3075 | K24: 45336 | L24: Цветной металлопрокат | N24: новое
A25: =A24+1 -> 14 | B25: ТМЦ | C25: 0000338557 | D25: Лист А-ПН-НО-2,5х1400х2700 ГОСТ 19903-2015 345-IV-09Г2С-св ГОСТ 17066-94 | E25: 24120 | F25: кг | G25: 60.47 | H25: 1458536.4 | J25: =I25-G25 -> -60.47 | K25: 45188 | L25: Металлопрокат | N25: новое
A26: =A25+1 -> 15 | B26: ТМЦ | C26: 0000214413 | D26: Лист обшивы крайний 1268.01.05.101 | E26: 99 | F26: шт | G26: 14341.146 | H26: 1419773.5 | J26: =I26-G26 -> -14341.146 | K26: 25.01.2022 26.01.2022 10.03.2022 | L26: Покупные комплектующие | N26: новое
A27: =A26+1 -> 16 | B27: Отходы | C27: 0000366723 | D27: Труба 530х8х(11101-11400) ГОСТ 10704-91 В 09Г2С ГОСТ 10706-76 (отход) | E27: 158.55 | F27: м | G27: 7838.8176 | H27: 1242844.5 | J27: =I27-G27 -> -7838.8176 | K27: 45489 | L27: Металлопрокат | N27: новое | O27: План реализации | P27: 45900
A28: =A27+1 -> 17 | B28: ТМЦ | C28: 0000285356 | D28: Лист А-ПВ-О-9х2000х6000 ГОСТ 19903-2015 345-14-09Г2С-ГС-УЗК1 ГОСТ 19281-2014 | E28: 14421.023 | F28: кг | G28: 85.23 | H28: 1229103.8 | J28: =I28-G28 -> -85.23 | K28: 44408 | L28: Металлопрокат | N28: новое | Q28: Выполнено
A29: =A28+1 -> 18 | B29: ТМЦ | C29: 0000037742 | D29: 9890.00.00.000 Тележка двухосная 3-х элементная мод.18-9890 | E29: 1 | F29: шт | G29: 1206614.9 | H29: 1206614.9 | J29: =I29-G29 -> -1206614.9 | K29: 42735 | L29: Полуфабрикаты | N29: новое | O29: Списание (план) | P29: 45900 | Q29: Не требуется
A30: =A29+1 -> 19 | B30: ТМЦ | C30: 0000049147 | D30: Профиль 10 1287х5х935х18х3,0 L=6545 ТУ 14-101-789-2008 345 09Г2С ГС ГОСТ 19281-2014 | E30: 29736.023 | F30: кг | G30: 37.698527 | H30: 1121004.3 | J30: =I30-G30 -> -37.698527 | K30: до 2017 | L30: Металлопрокат | N30: новое
A31: =A30+1 -> 20 | B31: ТМЦ | C31: 0000320883 | D31: Лист А-ПУ-О-8х2000х6000 ГОСТ 19903-2015 295-15-09Г2Д-ГС-УЗК1-Н ГОСТ 19281-2014 | E31: 15477 | F31: кг | G31: 71.8 | H31: 1111248.6 | J31: =I31-G31 -> -71.8 | K31: 45104 | L31: Металлопрокат | N31: новое | O31: План реализации | P31: 45900
A32: =A31+1 -> 21 | B32: Отходы | C32: 0000343819 | D32: Лом и отходы вольфрама и вольфрамовых сплавов В4 ГОСТ Р 54564 - 2011 | E32: 803 | F32: кг | G32: 1288.017 | H32: 1034277.6 | J32: =I32-G32 -> -1288.017 | N32: новое
A33: =A32+1 -> 22 | B33: ТМЦ | C33: 0000320903 | D33: Лист А-ПУ-О-12х2000х6000 ГОСТ 19903-2015 295-15-09Г2Д-ГС-УЗК1-Н ГОСТ 19281-2014 | E33: 14333.637 | F33: кг | G33: 71.8 | H33: 1029155.1 | J33: =I33-G33 -> -71.8 | K33: 45096 | L33: Металлопрокат | N33: новое | O33: План реализации | P33: 45900
A34: =A33+1 -> 23 | B34: ТМЦ | C34: 0000035381 | D34: 9891.00.00.000-02 Тележка двухосная 3-х элементная | E34: 2 | F34: шт | G34: 511148.32 | H34: 1022296.6 | J34: =I34-G34 -> -511148.32 | K34: 42735 | L34: Полуфабрикаты | N34: новое | O34: Списание (план) | P34: 45900 | Q34: Не требуется
A35: =A34+1 -> 24 | B35: ТМЦ | C35: 0000268453 | D35: Рулон А-НО-4х1480 ГОСТ 19903-2015 345-14-09Г2С-ГС ГОСТ 19281-2014 | E35: 15040 | F35: кг | G35: 67.4 | H35: 1013696 | I35: 52 | J35: =I35-G35 -> -15.4 | K35: 44712 | L35: Металлопрокат | N35: новое | O35: Реализация (факт) | P35: 45839 | Q35: Не требуется
A36: =A35+1 -> 25 | B36: ТМЦ | C36: 0000284824 | D36: Лист А-ПВ-О-15х2000х8000 ГОСТ 19903-2015 345-14-09Г2С-ГС-УЗК1 ГОСТ 19281-2014 | E36: 16949.293 | F36: кг | G36: 58.5 | H36: 991533.64 | J36: =I36-G36 -> -58.5 | K36: 45469 | L36: Металлопрокат | N36: новое
A37: =A36+1 -> 26 | B37: ТМЦ | C37: 0000058097 | D37: Насос PV7-1X/40-71RE37MCO-08 | E37: 4 | F37: шт | G37: 239579.41 | H37: 958317.63 | J37: =I37-G37 -> -239579.41 | K37: 06.06.2018 05.09.2022 | L37: Запчасти | N37: новое
A38: =A37+1 -> 27 | B38: ТМЦ | C38: 0000419263 | D38: Лист Б-ПН-О-2,5х1250х3150 ГОСТ 19903-2015 345-IV-09Г2С-св ГОСТ 17066-94 | E38: 17850.535 | F38: кг | G38: 50.3 | H38: 897881.91 | J38: =I38-G38 -> -50.3 | K38: 11.04.2025 16.04.2025 | L38: Металлопрокат | N38: новое
A39: =A38+1 -> 28 | B39: ТМЦ | C39: 0000112366 | D39: Электрод, катод CATHODE G092Y 280A для плазменной резки KOIKE | E39: 1220 | F39: шт | G39: 703.98611 | H39: 858863.05 | J39: =I39-G39 -> -703.98611 | K39: 45114 | L39: Запчасти | N39: новое | Q39: Выполнено
A40: =A39+1 -> 29 | B40: ТМЦ | C40: 0000236008 | D40: Канат 33,5-Г-ВК-ОЖ-Н-Р-Т-1770 ГОСТ 2688-80 | E40: 840 | F40: м | G40: 1016.6667 | H40: 854000 | J40: =I40-G40 -> -1016.6667 | K40: 44518 | L40: Канат | N40: новое | O40: План реализации | P40: 45900
A41: =A40+1 -> 30 | B41: ТМЦ | C41: 0000320905 | D41: Лист А-ПУ-О-14х2000х6000 ГОСТ 19903-2015 295-15-09Г2Д-ГС-УЗК1-Н ГОСТ 19281-2014 | E41: 11565 | F41: кг | G41: 71.8 | H41: 830367 | J41: =I41-G41 -> -71.8 | K41: 45106 | L41: Металлопрокат | N41: новое | O41: План реализации | P41: 45900
A42: =A41+1 -> 31 | B42: ТМЦ | C42: 0000171578 | D42: Лист обшивы средний 1268.03.07.002 | E42: 231 | F42: шт | G42: 3557.3817 | H42: 821755.17 | J42: =I42-G42 -> -3557.3817 | K42: 25.01.2022 26.01.2022 10.03.2022 | L42: Покупные комплектующие | N42: новое
A43: =A42+1 -> 32 | B43: Отходы | C43: 0000274549 | D43: Труба 83х6х(11901-12600) ГОСТ 8732-78 В 09Г2С ГОСТ 8731-74 (отход) | E43: 595.54 | F43: м | G43: 1373.0455 | H43: 817703.53 | J43: =I43-G43 -> -1373.0455 | K43: 24.11.2024 07.03.2025 | L43: Металлопрокат | N43: новое | O43: План реализации | P43: 45900
...

Sheet ВКМ Сервис
B1: Перечень неликвидов ООО "ВКМ-Сервис" по состоянию на 24.07.2025 г.* | L1: Утверждено: УД по предприятию
A3: №п/п | B3: Группа НА (ТМЦ/ОС/Отходы) | C3: Учетный номер | D3: Наименование | E3: Кол-во | F3: ЕИ | G3: Остаточная / учетная стоимость | I3: Фактическая цена реализации, руб. без НДС | K3: Дата поступления | L3: Группа номенклатуры | M3: Техническое состояние | N3: Статус по вовлечению и реализации | O3: Срок | P3: Покупатель | Q3: Стаус по наполнению Маркет РМ Рейл
C4: (Номенкл. / Инвен.) | G4: За единицу | H4: Сумма | J4: Отклонение, руб. без НДС
G5: (руб. без НДС) | H5: (руб. без НДС)
A6: 1 | B6: 2 | C6: 3 | D6: 4 | E6: 5 | F6: 6 | G6: 7 | H6: 8 | K6: 9 | L6: 10 | M6: 11 | N6: 12 | O6: 13 | Q6: 14
A7: 1 | B7: ТМЦ | C7: 0000209714 | D7: Лист Б-ПН-О-4х1100х4450 ГОСТ 19903-2015 345-14-09Г2С-ГС ГОСТ 19281-2014 | E7: 3421.6 | F7: кг | G7: 63.290858 | H7: 216556 | I7: 220887.12 | J7: =I7-H7 -> 4331.12 | L7: Металлопрокат плоский листовой ГОСТ 19281 толщиной от 4мм. (низколегированный) | M7: Новое, не бывшее в употреблении | N7: реализация (план) | O7: 45900 | P7: АО "Рузхиммаш | Q7: не требует
A8: 28 | B8: ТМЦ | C8: 0000001699 | D8: Кран концевой 271 УХЛ1 ТУ 3184-088-05756760-2010 | E8: 62 | F8: шт | G8: 2951.8979 | H8: 183017.67 | I8: 64480 | J8: =I8-H8 -> -118537.67 | L8: Краны концевые | M8: Новое, не бывшее в употреблении | N8: реализация (факт) | O8: 45882 | P8: Абаканвагонмаш | Q8: не тебует
A9: 2 | B9: ТМЦ | C9: 0000198328 | D9: Балочка центрирующая 1835.00.110 сб | E9: 15 | F9: шт | G9: 9700 | H9: 145500 | L9: Литье мелкое | M9: Новое, не бывшее в употреблении | Q9: опубликовано
A10: 29 | B10: ТМЦ | C10: 0000005368 | D10: Костюм х/б синий ГОСТ 27575-87 | E10: 57 | F10: шт | G10: 1985.386 | H10: 113167 | L10: Специальная одежда общего назначения | M10: Новое, не бывшее в употреблении | Q10: нет в списке для публикации
A11: 3 | B11: ТМЦ | C11: 0000130844 | D11: Лист Б-ПН-О-12 ГОСТ 19903-2015 325-14-09Г2С-ГС ГОСТ 19281-2014 (отход) | E11: 2951.4 | F11: кг | G11: 37.309412 | H11: 110115 | L11: Лист низколегированный б12 (отходы) | M11: Новое, не бывшее в употреблении | Q11: опубликовано
A12: 4 | B12: ТМЦ | C12: 0000005692 | D12: Пруток Д16 КР80 НД ГОСТ 21488-97 | E12: 179 | F12: кг | G12: 604.53631 | H12: 108212 | L12: Пруток марки Д16 | M12: Новое, не бывшее в употреблении | Q12: опубликовано
A13: 5 | B13: ТМЦ | C13: 0000210171 | D13: Лист Б-ПН-О-16 ГОСТ 19903-2015 345-14-09Г2С-ГС ГОСТ 19281-2014 (отход) | E13: 2147.5 | F13: кг | G13: 49.720605 | H13: 106775 | I13: 108910.5 | J13: =I13-H13 -> 2135.5 | L13: Лист низколегированный прочий (отходы) | M13: Новое, не бывшее в употреблении | N13: реализация (план) | O13: 45900 | P13: АО "Рузхиммаш | Q13: не требует
A14: 6 | B14: ТМЦ | C14: 0000136637 | D14: Балочка центрирующая 1281М.06.01.000 СБ | E14: 7 | F14: шт | G14: 11426.286 | H14: 79984 | L14: Литье мелкое | M14: Новое, не бывшее в употреблении | Q14: опубликовано
A15: 27 | B15: ТМЦ | C15: 0000001481 | D15: Болт М14 М1761.202 | E15: 160 | F15: шт | G15: 455.08044 | H15: 72812.87 | I15: 74269.13 | J15: =I15-H15 -> 1456.26 | L15: Болт | M15: Новое, не бывшее в употреблении | N15: реализация (факт) | O15: 45882 | P15: Абаканвагонмаш | Q15: не требует
A16: 7 | B16: ТМЦ | C16: 0000185536 | D16: Хомут тяговый ГОСТ 32885-2014 1167.00.001 | E16: 5 | F16: шт | G16: 12241 | H16: 61205 | I16: 40000 | J16: =I16-H16 -> -21205 | M16: Новое, не бывшее в употреблении | N16: реализация (факт) | O16: 45882 | P16: Абаканвагонмаш | Q16: не требует
A17: 26 | B17: ТМЦ | C17: 0000001480 | D17: Болт М16 М1761.201 | E17: 120 | F17: шт | G17: 449.50967 | H17: 53941.16 | I17: 55020 | J17: =I17-H17 -> 1078.84 | L17: Болт | M17: Новое, не бывшее в употреблении | N17: реализация (факт) | O17: 45882 | P17: Абаканвагонмаш | Q17: не требует
A18: 21 | B18: ТМЦ | C18: 0000014862 | D18: Балка надрессорная 100.00.010-4, 14, 2004, 107198 | E18: 1 | F18: шт | G18: 44000 | H18: 44000 | I18: 31550 | J18: =I18-H18 -> -12450 | L18: Балка надрессорная (архив) | M18: б/у, годная | N18: реализация (факт) | O18: 45882 | P18: Абаканвагонмаш | Q18: не требует
A19: 22 | B19: ТМЦ | C19: 0000014863 | D19: Балка надрессорная 100.00.010-4, 14, 2004, 107274 | E19: 1 | F19: шт | G19: 44000 | H19: 44000 | I19: 31550 | J19: =I19-H19 -> -12450 | L19: Балка надрессорная (архив) | M19: б/у, годная | N19: реализация (факт) | O19: 45882 | P19: Абаканвагонмаш | Q19: не требует
A20: 23 | B20: ТМЦ | C20: 0000014864 | D20: Балка надрессорная 100.00.010-4, 14, 2005, 12693 | E20: 1 | F20: шт | G20: 44000 | H20: 44000 | I20: 38500 | J20: =I20-H20 -> -5500 | L20: Балка надрессорная (архив) | M20: б/у, годная | N20: реализация (факт) | O20: 45882 | P20: Абаканвагонмаш | Q20: не требует
A21: 24 | B21: ТМЦ | C21: 0000014865 | D21: Балка надрессорная 100.00.010-4, 14, 2005, 23094 | E21: 1 | F21: шт | G21: 44000 | H21: 44000 | I21: 38500 | J21: =I21-H21 -> -5500 | L21: Балка надрессорная (архив) | M21: б/у, годная | N21: реализация (факт) | O21: 45882 | P21: Абаканвагонмаш | Q21: не требует
A22: 25 | B22: ТМЦ | C22: 0000014866 | D22: Балка надрессорная 100.00.010-4, 14, 2005, 31152 | E22: 1 | F22: шт | G22: 44000 | H22: 44000 | I22: 38500 | J22: =I22-H22 -> -5500 | L22: Балка надрессорная (архив) | M22: б/у, годная | N22: реализация (факт) | O22: 45882 | P22: Абаканвагонмаш | Q22: не требует
A23: 31 | B23: ТМЦ | C23: 0000212842 | D23: Лист нижний 469-07.1459 | E23: 3 | F23: шт | G23: 13823 | H23: 41469 | L23: Комплектующие для ремонта подвижного состава | M23: не пригодный к эксплуатации | N23: списание (факт) | O23: 45900 | Q23: не требует
A24: 30 | B24: ТМЦ | C24: 0000076920 | D24: Грунт-эмаль ЯрЛИсоат 7140 ЖТ RAL 5014 голубино-синий | E24: 155 | F24: кг | G24: 246.52903 | H24: 38212 | L24: Грунт-эмаль | M24: не пригодный к эксплуатации | N24: списание (факт) | O24: 45900 | Q24: не требует
A25: 20 | B25: ТМЦ | C25: 0000014861 | D25: Балка надрессорная 100.00.010-4, 12, 2008, 21432 | E25: 1 | F25: шт | G25: 38000 | H25: 38000 | I25: 38500 | J25: =I25-H25 -> 500 | L25: Балка надрессорная (архив) | M25: б/у, годная | N25: реализация (факт) | O25: 45882 | P25: Абаканвагонмаш | Q25: не требует
A26: 8 | B26: ТМЦ | C26: 0000130843 | D26: Лист Б-ПН-НО-10 ГОСТ 19903-2015 345-14-09Г2С-ГС ГОСТ 19281-2014 (отход) | E26: 842.8 | F26: кг | G26: 36.916232 | H26: 31113 | I26: 31735.26 | J26: =I26-H26 -> 622.26 | L26: Лист низколегированный б10 (отходы) | M26: Новое, не бывшее в употреблении | N26: реализация (план) | O26: 45900 | P26: АО "Рузхиммаш | Q26: не требует
A27: 9 | B27: ТМЦ | C27: 0000014764 | D27: Авторежим грузовой 265А-4 ТУ 3184-509-05744521-98 | E27: 6 | F27: шт | G27: 4161.1667 | H27: 24967 | I27: 13200 | J27: =I27-H27 -> -11767 | L27: Авторегулятор | M27: Новое, не бывшее в употреблении | N27: реализация (факт) | O27: 45882 | P27: Абаканвагонмаш | Q27: не требует
A28: 10 | B28: ТМЦ | C28: 0000120645 | D28: Лист 1565ч.М 5х1500х3650 ТУ 1-2-663-2015 | E28: 83.7 | F28: кг | G28: 255.37634 | H28: 21375 | L28: Лист марки 1565Ч | M28: Новое, не бывшее в употреблении | Q28: опубликовано
A29: 11 | B29: ТМЦ | C29: 0000120594 | D29: Лист 1565ч.М 4х1500х4800 ТУ 1-2-663-2015 | E29: 73.1 | F29: кг | G29: 278.07114 | H29: 20327 | L29: Лист марки 1565Ч | M29: Новое, не бывшее в употреблении | Q29: опубликовано
A30: 12 | B30: ТМЦ | C30: 0000025332 | D30: Резервуар Р7-135 ГОСТ Р 52400-2005 | E30: 3 | F30: шт | G30: 5957.6667 | H30: 17873 | I30: 18230.46 | J30: =I30-H30 -> 357.46 | L30: Резервуары | M30: Новое, не бывшее в употреблении | N30: реализация (факт) | O30: 45882 | P30: Абаканвагонмаш | Q30: не требует
A31: 13 | B31: ТМЦ | C31: 0000017634 | D31: Резервуар Р7-78 ГОСТ Р 52400-2005 | E31: 3 | F31: шт | G31: 4910 | H31: 14730 | I31: 5700 | J31: =I31-H31 -> -9030 | L31: Резервуары | M31: Новое, не бывшее в употреблении | N31: реализация (факт) | O31: 45882 | P31: Абаканвагонмаш | Q31: не требует
A32: 14 | B32: ТМЦ | C32: 0000017768 | D32: Шестигранник В1-IV-46 ГОСТ 2879-2006 35-3ГП ГОСТ 1050-2013 | E32: 285.2 | F32: кг | G32: 43.972651 | H32: 12541 | L32: Шестигранник (углеродистый) | M32: Новое, не бывшее в употреблении | Q32: опубликовано
A33: 15 | B33: ТМЦ | C33: 0000314646 | D33: Труба 76х6х(7701-8400) 12Х18Н10Т ГОСТ 9941-2022 (отход) | E33: 4.7 | F33: м | G33: 2504.6809 | H33: 11772 | L33: Труба (отходы) | M33: Новое, не бывшее в употреблении | Q33: опубликовано
A34: 18 | B34: ТМЦ | C34: 0000001770 | D34: Кольцо уплотнительное ГГ731.03.01.02.005 | E34: 64 | F34: шт | G34: 146.51562 | H34: 9377 | L34: РТИ | M34: Новое, не бывшее в употреблении | Q34: опубликовано
A35: 16 | B35: ТМЦ | C35: 0000141971 | D35: Грунт-эмаль Эмакоут 7320 ЖД RAL 5005 сигнальный синий ТУ 2313-048-31953544-2006 | E35: 19.6 | F35: кг | G35: 371 | H35: 7271.6 | I35: 2181.48 | J35: =I35-H35 -> -5090.12 | L35: Грунт-эмаль | M35: Новое, не бывшее в употреблении | N35: реализация (план) | O35: 45900 | P35: Сотрудник предприятия | Q35: не требует
A36: 19 | B36: ТМЦ | C36: 0000190770 | D36: Прокладка 1219П.01.00.014 | E36: 80 | F36: шт | G36: 80.8625 | H36: 6469 | L36: Манжеты, сальники, прокладки | M36: Новое, не бывшее в употреблении | Q36: опубликовано
A37: 17 | B37: ТМЦ | C37: 0000088751 | D37: Грунтовка ГФ-021 ГОСТ 25129-82 | E37: 20 | F37: кг | G37: 183 | H37: 3660 | I37: 1098 | J37: =I37-H37 -> -2562 | L37: Грунт | M37: Новое, не бывшее в употреблении | N37: реализация (план) | O37: 45900 | P37: Сотрудник предприятия | Q37: не требует
A38: ИТОГО | H38: =SUM(H7:H37) -> 1770442.3 | I38: =SUM(I7:I37) -> 852811.95 | J38: =SUM(J7:J37) -> -199110.35
A39: * Действителен до возникновения потребности в актуализации
G40: По состоянию на 14.08.2025
G41: Реализовано | H41: =SUM(H8,H15,H16,H17,H18,H19,H20,H21,H22,H25,H27,H30,H31) -> 686546.7
...

Sheet ВКМ Сталь
A1: Утверждаю: Управляющий директор _____________ Чалов Н.А. «___» 2025г
A5: Перечень неликвидов ООО "ВКМ-Сталь" по состоянию на 01.07.25г. *
A6: №п/п | B6: Группа НА (ТМЦ/ОС/Отходы) | C6: Учетный номер | D6: Наименование | E6: Кол-во | F6: ЕИ | G6: Остаточная / учетная стоимость | I6: Фактическая цена реализации, руб. без НДС | K6: Дата поступления | L6: Группа номенклатуры | M6: Техническое состояние | N6: Статус по вовлечению и реализации | O6: Срок | P6: Стаус по наполнению Маркет РМ Рейл
C7: (Номенкл. / Инвен.) | G7: За единицу | H7: Сумма | J7: Отклонение, руб. без НДС
G8: (руб. без НДС) | H8: (руб. без НДС)
A9: 1 | B9: 2 | C9: 3 | D9: 4 | E9: 5 | F9: 6 | G9: 7 | H9: 8 | K9: 9 | L9: 10 | M9: 11 | N9: 12 | O9: 13 | P9: 14
A10: =1 -> 1 | B10: ТМЦ | C10: 0000165863 | D10: Трансформатор электропечной ЭТМПК 5200/10-М | E10: 1 | F10: шт | G10: 3514000 | H10: 3514000 | J10: =I10-G10 -> -3514000 | K10: Первое поступление -до 05.1965г, оприходование после ремонта 23.11.2023 | L10: Продукция электротехническая | M10: БУ,после ремонта и модернизации | N10: Реализация | O10: 46022 | P10: Внесено
A11: =A10+1 -> 2 | B11: ТМЦ | C11: 0000130733 | D11: Фреза 315Y20NK90SP10N16K | E11: 1 | F11: шт | G11: 188356.91 | H11: 188356.91 | J11: =I11-G11 -> -188356.91 | K11: 43823 | L11: Инструмент | M11: НОВОЕ | N11: Вовлечение | O11: Октябрь | P11: Внесено
A12: ИТОГО | E12: =SUM(E10:E11) -> 2 | H12: =SUM(H10:H11) -> 3702356.9
A13: * Действителен до возникновения потребности в актуализации
G17: Реализовано
G18: План реализации | H18: =H10 -> 3514000
G19: Вовлечено
G20: Вовлечение план | H20: =H11 -> 188356.91
G21: Списание План
G22: Списано
G23: ИТОГО: | H23: =SUBTOTAL(9,H17:H22) -> 3702356.9
H24: =H23/H12 -> 1

Sheet Машзавод
B1: Перечень неликвидов АО "Машзавод" по состоянию на 29.07.2025 г.* | L1: Утверждено: УД по предприятию
A3: №п/п | B3: Группа НА (ТМЦ/ОС/Отходы) | C3: Учетный номер | D3: Наименование | E3: Кол-во | F3: ЕИ | G3: Остаточная / учетная стоимость | I3: Фактическая цена реализации, руб. без НДС | K3: Дата поступления | L3: Группа номенклатуры | M3: Техническое состояние | N3: Статус по вовлечению и реализации | O3: Срок | P3: Стаус по наполнению Маркет РМ Рейл
C4: (Номенкл. / Инвен.) | G4: За единицу | H4: Сумма | J4: Отклонение, руб. без НДС
G5: (руб. без НДС) | H5: (руб. без НДС)
A6: 1 | B6: 2 | C6: 3 | D6: 4 | E6: 5 | F6: 6 | G6: 7 | H6: 8 | K6: 9 | L6: 10 | M6: 11 | N6: 12 | O6: 13 | P6: 14
A7: =1 -> 1 | B7: ТМЦ | D7: Труба КОРСИС ПРО500 SN16 с привар.раструбом (11,7м) (Отрезок 11,7 м) | E7: 82.1 | F7: м | G7: 7948.7214 | H7: 652590.03 | J7: =I7-G7 -> -7948.7214 | M7: рабочее | N7: Реализация | O7: 45992 | P7: тех ошибка. Фото получены
A8: =A7+1 -> 2 | B8: ТМЦ | C8: МЗ-00032367 | D8: Теплоизоляция Rockwool Лайт Баттс Скандик 1200*600*100 | E8: 285.12 | F8: м2 | G8: 1250 | H8: 356400 | J8: =I8-G8 -> -1250 | M8: рабочее | N8: Реализация | O8: 45992 | P8: тех ошибка. Фото получены
A9: =A8+1 -> 3 | B9: ТМЦ | C9: МЗ-00032381 | D9: Кабель АВБШв 4*185 (1) | E9: 250 | F9: м | G9: 1332.67 | H9: 333167.5 | J9: =I9-G9 -> -1332.67 | M9: рабочее | N9: Реализация | O9: 45992 | P9: тех ошибка. Фото получены
A10: =A9+1 -> 4 | B10: ТМЦ | D10: Труба КОРСИС ПРО 400 SN16 | E10: 58.5 | F10: м | G10: 5306.3074 | H10: 310418.98 | J10: =I10-G10 -> -5306.3074 | M10: рабочее | N10: Реализация | O10: 45992 | P10: тех ошибка. Фото получены
A11: =A10+1 -> 5 | B11: ТМЦ | C11: 00-00009868 | D11: Труба ПЭ100 SDR17- 500Х29,7 | E11: 24 | F11: м | G11: 11533.421 | H11: 276802.11 | J11: =I11-G11 -> -11533.421 | M11: рабочее | N11: Реализация | O11: 45992 | P11: тех ошибка. Фото получены
A12: =A11+1 -> 6 | B12: ТМЦ | C12: МЗ-00032386 | D12: Кабель АВБШв 4*240 (1) | E12: 170 | F12: м | G12: 1223.17 | H12: 207938.9 | J12: =I12-G12 -> -1223.17 | M12: рабочее | N12: Реализация | O12: 45992 | P12: тех ошибка. Фото получены
A13: =A12+1 -> 7 | B13: ТМЦ | C13: МЗ-00032368 | D13: Утеплитель Технониколь Техноруф Н Проф 1200х600х150мм | E13: 14.688 | F13: м3 | G13: 13376.67 | H13: 196476.53 | J13: =I13-G13 -> -13376.67 | M13: рабочее | N13: Реализация | O13: 45992 | P13: тех ошибка. Фото получены
A14: =A13+1 -> 8 | B14: ТМЦ | C14: МЗ-00032393 | D14: Кабель АВБШв 4*240 (8) | E14: 160 | F14: м | G14: 1223.17 | H14: 195707.2 | J14: =I14-G14 -> -1223.17 | M14: рабочее | N14: Реализация | O14: 45992 | P14: тех ошибка. Фото получены
A15: =A14+1 -> 9 | B15: ТМЦ | C15: 00-00009084 | D15: Кабель АВБШв 4x70 | E15: 320 | F15: м | G15: 525.15834 | H15: 168050.67 | J15: =I15-G15 -> -525.15834 | M15: рабочее | N15: Реализация | O15: 45992 | P15: тех ошибка. Фото получены
A16: =A15+1 -> 10 | B16: ТМЦ | C16: МЗ-00032397 | D16: Кабель АВБШв 4*150 (5) | E16: 150 | F16: м | G16: 906.31 | H16: 135946.5 | J16: =I16-G16 -> -906.31 | M16: рабочее | N16: Реализация | O16: 45992 | P16: тех ошибка. Фото получены
A17: =A16+1 -> 11 | B17: ТМЦ | C17: МЗ-00032394 | D17: Кабель АВБШв 4*150 (3) | E17: 120 | F17: м | G17: 906.31 | H17: 108757.2 | J17: =I17-G17 -> -906.31 | M17: рабочее | N17: Реализация | O17: 45992 | P17: тех ошибка. Фото получены
A18: =A17+1 -> 12 | B18: ТМЦ | C18: 00-00010435 | D18: Труба э/св 325х7 | E18: 1.327 | F18: т | G18: 79166.669 | H18: 105054.17 | J18: =I18-G18 -> -79166.669 | M18: рабочее | N18: Реализация | O18: 45992 | P18: тех ошибка. Фото получены
A19: =A18+1 -> 13 | B19: ТМЦ | C19: МЗ-00032391 | D19: Кабель АВБШв 4*240 (6) | E19: 85 | F19: м | G19: 1223.17 | H19: 103969.45 | J19: =I19-G19 -> -1223.17 | M19: рабочее | N19: Реализация | O19: 45992 | P19: тех ошибка. Фото получены
A20: =A19+1 -> 14 | B20: ТМЦ | C20: МЗ-00025385 | D20: Кольцо опорное КО6 | E20: 40 | F20: шт | G20: 2458.33 | H20: 98333.2 | J20: =I20-G20 -> -2458.33 | M20: рабочее | N20: Реализация | O20: 45992 | P20: тех ошибка. Фото получены
A21: =A20+1 -> 15 | B21: ТМЦ | C21: 00-00012996 | D21: Мастика резинобитумная 10л | E21: 79 | F21: шт | G21: 1240.2953 | H21: 97983.33 | J21: =I21-G21 -> -1240.2953 | M21: рабочее | N21: Реализация | O21: 45992 | P21: тех ошибка. Фото получены
A22: =A21+1 -> 16 | B22: ТМЦ | C22: МЗ-00032388 | D22: Кабель АВБШв 4*240 (3) | E22: 80 | F22: м | G22: 1223.17 | H22: 97853.6 | J22: =I22-G22 -> -1223.17 | M22: рабочее | N22: Реализация | O22: 45992 | P22: тех ошибка. Фото получены
... A24: =A23+1 -> 18 | B24: ТМЦ | C24: МЗ-00032395 | D24: Кабель АВБШв 4*10 | E24: 700 | F24: м | G24: 130.18 | H24: 91126 | J24: =I24-G24 -> -130.18 | M24: рабочее | N24: Реализация | O24: 45992 | P24: тех ошибка. Фото получены
A25: =A24+1 -> 19 | B25: ТМЦ | C25: МЗ-00025441 | D25: Затирка Ceresit CE 33 2кг | E25: 180 | F25: шт | G25: 500 | H25: 90000 | J25: =I25-G25 -> -500 | M25: под списание | N25: Списано 15.07
A26: =A25+1 -> 20 | B26: ТМЦ | C26: МЗ-00032377 | D26: Затирка Церезит Багамы СЕ33 2кг | E26: 180 | F26: шт | G26: 500 | H26: 90000 | J26: =I26-G26 -> -500 | M26: под списание | N26: Списано 15.07
A27: =A26+1 -> 21 | B27: ТМЦ | C27: МЗ-00032390 | D27: Кабель АВБШв 4*240 (5) | E27: 70 | F27: м | G27: 1223.17 | H27: 85621.9 | J27: =I27-G27 -> -1223.17 | M27: рабочее | N27: Реализация | O27: 45992 | P27: тех ошибка. Фото получены
A28: =A27+1 -> 22 | B28: ТМЦ | C28: МЗ-00032371 | D28: Кольцо стеновое КС 10.6 | E28: 20 | F28: шт | G28: 4000 | H28: 80000 | J28: =I28-G28 -> -4000 | M28: рабочее | N28: Реализация | O28: 45992 | P28: тех ошибка. Фото получены
A29: =A28+1 -> 23 | B29: ТМЦ | C29: МЗ-00032382 | D29: Кабель АВБШв 4*150 (1) | E29: 85 | F29: м | G29: 906.31 | H29: 77036.35 | J29: =I29-G29 -> -906.31 | M29: рабочее | N29: Реализация | O29: 45992 | P29: тех ошибка. Фото получены
A30: =A29+1 -> 24 | B30: ТМЦ | C30: 00-00009102 | D30: Колодец ККСо-4-80Г В20 | E30: 3 | F30: шт | G30: 25200 | H30: 75600 | J30: =I30-G30 -> -25200 | M30: рабочее | N30: Реализация | O30: 45992 | P30: тех ошибка. Фото получены
A31: =A30+1 -> 25 | B31: ТМЦ | D31: Труба КОРСИС ПРО 315 SN 16 | E31: 20 | F31: м | G31: 3567.906 | H31: 71358.12 | J31: =I31-G31 -> -3567.906 | M31: рабочее | N31: Реализация | O31: 45992 | P31: тех ошибка. Фото получены
A32: =A31+1 -> 26 | B32: ТМЦ | C32: МЗ-00032378 | D32: Гидроизоляция Акваскрин НА64 4.5 кг | E32: 50 | F32: шт | G32: 1416.67 | H32: 70833.5 | J32: =I32-G32 -> -1416.67 | M32: под списание | N32: Списано 15.07
A33: =A32+1 -> 27 | B33: ТМЦ | C33: МЗ-00032399 | D33: Кабель АВБШв 4*95 (3) | E33: 110 | F33: м | G33: 636.68 | H33: 70034.8 | J33: =I33-G33 -> -636.68 | M33: рабочее | N33: Реализация | O33: 45992 | P33: тех ошибка. Фото получены
A34: =A33+1 -> 28 | B34: ТМЦ | C34: МЗ-00032376 | D34: Затирка Церезит серая СЕ40 2кг | E34: 140 | F34: шт | G34: 500 | H34: 70000 | J34: =I34-G34 -> -500 | M34: под списание | N34: Списано 15.07
A35: =A34+1 -> 29 | B35: ТМЦ | C35: МЗ-00032385 | D35: Кабель АВБШв 4*150 (2) | E35: 75 | F35: м | G35: 906.31 | H35: 67973.25 | J35: =I35-G35 -> -906.31 | M35: рабочее | N35: Реализация | O35: 45992 | P35: тех ошибка. Фото получены
A36: =A35+1 -> 30 | B36: ТМЦ | C36: МЗ-00032392 | D36: Кабель АВБШв 4*240 (7) | E36: 50 | F36: м | G36: 1223.17 | H36: 61158.5 | J36: =I36-G36 -> -1223.17 | M36: рабочее | N36: Реализация | O36: 45992 | P36: тех ошибка. Фото получены
A37: =A36+1 -> 31 | B37: ТМЦ | C37: 00-00008126 | D37: Труба стальные э-св в тепловой изоляции из пенополиуретана ст20,Ст57х3,5-2ППУ-ПЭ-140 СДК | E37: 72 | F37: пог.м | G37: 829.5 | H37: 59724 | J37: =I37-G37 -> -829.5 | M37: рабочее | N37: Реализация | O37: 45992 | P37: тех ошибка. Фото получены
A38: =A37+1 -> 32 | B38: ТМЦ | C38: МЗ-00032373 | D38: Профиль стоечный ПС 75*50 | E38: 176 | F38: шт | G38: 317.5 | H38: 55880 | J38: =I38-G38 -> -317.5 | M38: рабочее | N38: Реализация | O38: 45992 | P38: тех ошибка. Фото получены
A39: =A38+1 -> 33 | B39: ТМЦ | C39: МЗ-00032400 | D39: Кабель АВБШв 4*185 (3) | E39: 40 | F39: м | G39: 1332.67 | H39: 53306.8 | J39: =I39-G39 -> -1332.67 | M39: рабочее | N39: Реализация | O39: 45992 | P39: тех ошибка. Фото получены
A40: =A39+1 -> 34 | B40: ТМЦ | C40: МЗ-00032372 | D40: Профиль направляющий ПН 75*40 | E40: 160 | F40: шт | G40: 330 | H40: 52800 | J40: =I40-G40 -> -330 | M40: рабочее | N40: Реализация | O40: 45992 | P40: тех ошибка. Фото получены
A41: =A40+1 -> 35 | B41: ТМЦ | C41: МЗ-00032383 | D41: Кабель АВБШв 4*95 (4) | E41: 80 | F41: м | G41: 636.68 | H41: 50934.4 | J41: =I41-G41 -> -636.68 | M41: рабочее | N41: Реализация | O41: 45992 | P41: тех ошибка. Фото получены
A42: =A41+1 -> 36 | B42: ТМЦ | C42: МЗ-00032722 | D42: Комплект для монтажа в стойку | E42: 12 | F42: шт | G42: 4156.3933 | H42: 49876.72 | J42: =I42-G42 -> -4156.3933 | M42: рабочее
...

Sheet РВС
B1: ООО «РМ Рейл РВС» список МТР и оборудования | R1: Саратов | S1: Аппарат сварочный инверторный ARC 250 | T1: БУ | U1: 834214.29 | V1: =U1/#REF! -> #REF! | W1: Кемерово | X1: Вышка-тура ВСП-250 2,0х2,0м высота 8,7м | Y1: БУ | Z1: 266666.68 | AA1: =Z1/#REF! -> #REF!
A3: № п/п | B3: Номенклатура | C3: ед. изм. | D3: кол-во | E3: Учетная стоимость 1С | F3: Физический износ | G3: Моральный износ | H3: Дисконт 50% | I3: Не пригодны/ не рабочее состояние | J3: Учетная/остаточная стоимсть, руб. без НДС | K3: Сумма, руб. без НДС | L3: Фактическая цена реализации, руб. без НДС | M3: Отклонение, руб. без НДС | N3: прим. | O3: Статус по вовлечению и реализации | P3: Срок | Q3: Статус по внесению на портал Маркет РМ Рейл | S3: Бобышка 1-1-М20х1,5-100-20 ОСТ 26.260.460-99 | T3: БУ | U3: 21922.34 | V3: =U3/U4 -> 730.74467 | X3: Головка напорная ГМ-80 ГОСТ Р 53279-09 | Y3: БУ | Z3: 280 | AA3: =Z3/Z4 -> 280
A4: 1 | B4: Аппарат сварочный инверторный ARC 250 | C4: шт | D4: =9-6 -> 3 | E4: 27807.14 | G4: 0.07 | J4: =E4*(1-F4)*(1-G4)*(1-H4) -> 25860.64 | K4: =J4*D4 -> 77581.921 | M4: =L4-J4 -> -25860.64 | N4: новый | T4: Кол. | U4: 30 | Y4: Кол. | Z4: 1
A5: 2 | B5: Аппарат сварочный инверторный ARC 250 | C5: шт | D5: 21 | E5: 27807.14 | H5: 0.5 | J5: =E5*(1-F5)*(1-G5)*(1-H5) -> 13903.57 | K5: =J5*D5 -> 291974.97 | M5: =L5-J5 -> -13903.57 | N5: б.у. | S5: Болт с шестигранной головкой ГОСТ Р ИСО 4014-М12х50-5.6 А9А | T5: БУ | U5: 35690.4 | V5: =U5/U6 -> 20.511724 | X5: Головка переходная ГП-80-65 ГОСТ Р 53279-2009 | Y5: БУ | Z5: 820 | AA5: =Z5/Z6 -> 820
A6: 3 | B6: Бобышка 1-1-М20х1,5-100-20 ОСТ 26.260.460-99 | C6: шт | D6: 30 | E6: 730.74 | F6: 0.3 | G6: 0.07 | J6: =E6*(1-F6)*(1-G6)*(1-H6) -> 475.71174 | K6: =J6*D6 -> 14271.352 | M6: =L6-J6 -> -475.71174 | N6: б.у. | T6: Кол. | U6: 1740 | Y6: Кол. | Z6: 1
A7: 4 | B7: Болт с шестигранной головкой ГОСТ Р ИСО 4014-М12х50-5.6 А9А | C7: шт | D7: 1740 | E7: 20.51 | G7: 0.07 | J7: =E7*(1-F7)*(1-G7)*(1-H7) -> 19.0743 | K7: =J7*D7 -> 33189.282 | M7: =L7-J7 -> -19.0743 | N7: новый | S7: Болт с шестигранной головкой ГОСТ Р ИСО 4014-М8х30-6.6.35 | T7: БУ | U7: 26882.16 | V7: =U7/U8 -> 6.4465612 | X7: Головка рукавная ГР-100 ГОСТ Р 53279-09 | Y7: БУ | Z7: 780 | AA7: =Z7/Z8 -> 780
A8: 5 | B8: Болт с шестигранной головкой ГОСТ Р ИСО 4014-М8х30-6.6.35 | C8: шт | D8: 4170 | E8: 6.45 | G8: 0.07 | J8: =E8*(1-F8)*(1-G8)*(1-H8) -> 5.9985 | K8: =J8*D8 -> 25013.745 | M8: =L8-J8 -> -5.9985 | N8: новый | T8: Кол. | U8: 4170 | Y8: Кол. | Z8: 1
A9: 6 | B9: Бочонок Terma 1/2-латунь с хромовым покрытием 42102 | C9: шт | D9: 9 | E9: 70 | G9: 0.07 | J9: =E9*(1-F9)*(1-G9)*(1-H9) -> 65.1 | K9: =J9*D9 -> 585.9 | M9: =L9-J9 -> -65.1 | N9: новый | S9: Бочонок Terma 1/2-латунь с хромовым покрытием 42102 | T9: БУ | U9: 630 | V9: =U9/U10 -> 70 | X9: Домкрат реечный механический 3,5т 130-1070мм | Y9: БУ | Z9: 19885.72 | AA9: =Z9/Z10 -> 9942.86
A10: 7 | B10: Винт стяжной 17х1000 | C10: шт | D10: 50 | E10: 154 | F10: 0.3 | G10: 0.07 | J10: =E10*(1-F10)*(1-G10)*(1-H10) -> 100.254 | K10: =J10*D10 -> 5012.7 | M10: =L10-J10 -> -100.254 | N10: б.у. | T10: Кол. | U10: 9 | Y10: Кол. | Z10: 2
A11: 8 | B11: Газоанализатор многоканальный ALTAIR 4XR CH4-O2-CO-H2S | C11: шт | D11: 1 | E11: 25000 | I11: Не пригодны | J11: =E11 -> 25000 | K11: =J11*D11 -> 25000 | M11: =L11-J11 -> -25000 | N11: б.у. | O11: Списание | P11: 45900 | S11: Винт стяжной 17х1000 | T11: БУ | U11: 7700 | V11: =U11/U12 -> 154 | X11: Захват для вертикального подъема CDH 5т | Y11: БУ | Z11: 20000 | AA11: =Z11/Z12 -> 10000
A12: 9 | B12: Гайка А М27-6М.20.II.016 ГОСТ 9064-75 | C12: шт | D12: 24 | E12: 254.42667 | G12: 0.07 | J12: =E12*(1-F12)*(1-G12)*(1-H12) -> 236.6168 | K12: =J12*D12 -> 5678.8032 | M12: =L12-J12 -> -236.6168 | N12: новая | T12: Кол. | U12: 50 | Y12: Кол. | Z12: 2
A13: 10 | B13: Гайка А М30-6М.20.II.016 ГОСТ 9064-75 | C13: шт | D13: 254 | E13: 256.92669 | G13: 0.07 | J13: =E13*(1-F13)*(1-G13)*(1-H13) -> 238.94182 | K13: =J13*D13 -> 60691.223 | M13: =L13-J13 -> -238.94182 | N13: новая | S13: Газоанализатор многоканальный ALTAIR 4XR CH4-O2-CO-H2S | T13: БУ | U13: 25000 | V13: =U13/U14 -> 25000 | X13: Инвертор сварочный ВД-253 NEON | Y13: БУ | Z13: 50627.5 | AA13: =Z13/Z14 -> 25313.75
A14: 11 | B14: Гайка А М30-6М.30ХМА.II.016 ГОСТ 9064-75 | C14: шт | D14: 48 | E14: 315.84667 | G14: 0.07 | J14: =E14*(1-F14)*(1-G14)*(1-H14) -> 293.7374 | K14: =J14*D14 -> 14099.395 | M14: =L14-J14 -> -293.7374 | N14: новая | T14: Кол. | U14: 1 | Y14: Кол. | Z14: 2
A15: 12 | B15: Гайка АМ12-6Н.20.II.016 ГОСТ 9064-75 | C15: шт | D15: 152 | E15: 96.532961 | G15: 0.07 | J15: =E15*(1-F15)*(1-G15)*(1-H15) -> 89.775653 | K15: =J15*D15 -> 13645.899 | M15: =L15-J15 -> -89.775653 | N15: новая | S15: Гайка А М27-6М.20.II.016 ГОСТ 9064-75 | T15: БУ | U15: 6106.24 | V15: =U15/U16 -> 254.42667 | X15: Лебедка ручная рычажная г/п 1,6т в/п20м | Y15: БУ | Z15: 128916.7 | AA15: =Z15/Z16 -> 12891.67
A16: 13 | B16: Гайка АМ12-6Н.20Х13.II.016 ГОСТ 9064-75 | C16: шт | D16: 32 | E16: 124.36469 | G16: 0.07 | J16: =E16*(1-F16)*(1-G16)*(1-H16) -> 115.65916 | K16: =J16*D16 -> 3701.0931 | M16: =L16-J16 -> -115.65916 | N16: новая | T16: Кол. | U16: 24 | Y16: Кол. | Z16: 10
A17: 14 | B17: Гайка АМ16-6Н.20.II.016 ГОСТ 9064-75 | C17: шт | D17: 40 | E17: 43.8 | G17: 0.07 | J17: =E17*(1-F17)*(1-G17)*(1-H17) -> 40.734 | K17: =J17*D17 -> 1629.36 | M17: =L17-J17 -> -40.734 | N17: новая | S17: Гайка А М30-6М.20.II.016 ГОСТ 9064-75 | T17: БУ | U17: 65259.38 | V17: =U17/U18 -> 256.92669 | X17: Лебедка ручная рычажная г/п 5,4т в/п 20м | Y17: БУ | Z17: 104949.99 | AA17: =Z17/Z18 -> 34983.33
A18: 15 | B18: Гайка АМ24-6Н.20.II.016 ГОСТ 9064-75 | C18: шт | D18: 320 | E18: 166.44669 | G18: 0.07 | J18: =E18*(1-F18)*(1-G18)*(1-H18) -> 154.79542 | K18: =J18*D18 -> 49534.534 | M18: =L18-J18 -> -154.79542 | N18: новая | T18: Кол. | U18: 254 | Y18: Кол. | Z18: 3
A19: 16 | B19: Гайка АМ24-6Н.20Х13.II.016 ГОСТ 9064-75 | C19: шт | D19: 16 | E19: 314.18687 | G19: 0.07 | J19: =E19*(1-F19)*(1-G19)*(1-H19) -> 292.19379 | K19: =J19*D19 -> 4675.1007 | M19: =L19-J19 -> -292.19379 | N19: новая | S19: Гайка А М30-6М.30ХМА.II.016 ГОСТ 9064-75 | T19: БУ | U19: 15160.64 | V19: =U19/U20 -> 315.84667 | X19: Лестница алюминиевая трехсекционная 16 ступеней | Y19: БУ | Z19: 4498.34 | AA19: =Z19/Z20 -> 2249.17
A20: 17 | B20: Гайка АМ24-6Н.30ХМА.II.3.016 ГОСТ 9064-75 | C20: шт | D20: 8 | E20: 284.415 | G20: 0.07 | J20: =E20*(1-F20)*(1-G20)*(1-H20) -> 264.50595 | K20: =J20*D20 -> 2116.0476 | M20: =L20-J20 -> -264.50595 | N20: новая | T20: Кол. | U20: 48 | Y20: Кол. | Z20: 2
A21: 18 | B21: Гайка АМ24-6Н.35.II.3.016 ГОСТ 9064-75 | C21: шт | D21: 48 | E21: 274.51479 | G21: 0.07 | J21: =E21*(1-F21)*(1-G21)*(1-H21) -> 255.29876 | K21: =J21*D21 -> 12254.34 | M21: =L21-J21 -> -255.29876 | N21: новая | S21: Гайка АМ12-6Н.20.II.016 ГОСТ 9064-75 | T21: БУ | U21: 14673.01 | V21: =U21/U22 -> 96.532961 | X21: Маска сварщика Хамелеон с АСФ | Y21: БУ | Z21: 14150.49 | AA21: =Z21/Z22 -> 4716.83
A22: 19 | B22: Гайка АМ36-6Н.20.II.016 ГОСТ 9064-75 | C22: шт | D22: 64 | E22: 497.54672 | G22: 0.07 | J22: =E22*(1-F22)*(1-G22)*(1-H22) -> 462.71845 | K22: =J22*D22 -> 29613.981 | M22: =L22-J22 -> -462.71845 | N22: новая | T22: Кол. | U22: 152 | Y22: Кол. | Z22: 3
A23: 20 | B23: Гайка АМ36-6Н.30ХМА.II.016 ГОСТ 9064-75 | C23: шт | D23: 24 | E23: 583.11667 | G23: 0.07 | J23: =E23*(1-F23)*(1-G23)*(1-H23) -> 542.2985 | K23: =J23*D23 -> 13015.164 | M23: =L23-J23 -> -542.2985 | N23: новая | S23: Гайка АМ12-6Н.20Х13.II.016 ГОСТ 9064-75 | T23: БУ | U23: 3979.67 | V23: =U23/U24 -> 124.36469 | X23: Машина прямошлифовальная Makita GD0600 | Y23: БУ | Z23: 17406.83 | AA23: =Z23/Z24 -> 17406.83
A24: 21 | B24: Гайка литая двухрожковая Г2Р90Ц 90 мм | C24: шт | D24: 25 | E24: 122.4 | F24: 0.3 | G24: 0.07 | J24: =E24*(1-F24)*(1-G24)*(1-H24) -> 79.6824 | K24: =J24*D24 -> 1992.06 | M24: =L24-J24 -> -79.6824 | N24: б.у. | T24: Кол. | U24: 32 | Y24: Кол. | Z24: 1
A25: 22 | B25: Гайка литая двухрожковая Г2Р90Ч 90мм | C25: шт | D25: 75 | E25: 116.56667 | F25: 0.3 | G25: 0.07 | J25: =E25*(1-F25)*(1-G25)*(1-H25) -> 75.8849 | K25: =J25*D25 -> 5691.3675 | M25: =L25-J25 -> -75.8849 | N25: б.у. | S25: Гайка АМ16-6Н.20.II.016 ГОСТ 9064-75 | T25: БУ | U25: 1752 | V25: =U25/U26 -> 43.8 | X25: Машина прямошлифовальная Makita GD0800С | Y25: БУ | Z25: 23017.99 | AA25: =Z25/Z26 -> 23017.99
A26: 23 | B26: Гайка М12-6Н.8.20ГР ГОСТ 5927-70 | C26: шт | D26: 1080 | E26: 4.5375 | G26: 0.07 | J26: =E26*(1-F26)*(1-G26)*(1-H26) -> 4.219875 | K26: =J26*D26 -> 4557.465 | M26: =L26-J26 -> -4.219875 | N26: новая | T26: Кол. | U26: 40 | Y26: Кол. | Z26: 1
A27: 24 | B27: Гайка шестигранная нормальная ГОСТ ISO 4032-М12-5-А9А | C27: шт | D27: 2640 | E27: 6.042928 | G27: 0.07 | J27: =E27*(1-F27)*(1-G27)*(1-H27) -> 5.6199231 | K27: =J27*D27 -> 14836.597 | M27: =L27-J27 -> -5.6199231 | N27: новая | S27: Гайка АМ24-6Н.20.II.016 ГОСТ 9064-75 | T27: БУ | U27: 53262.94 | V27: =U27/U28 -> 166.44669 | X27: Машина шлифовальная угловая Makita 9565CVR | Y27: БУ | Z27: 53574.5 | AA27: =Z27/Z28 -> 10714.9
A28: 25 | B28: Гайка шестигранная нормальная ГОСТ ISO 4032-М8-5 | C28: шт | D28: 4230 | E28: 2.674305 | G28: 0.07 | J28: =E28*(1-F28)*(1-G28)*(1-H28) -> 2.4871036 | K28: =J28*D28 -> 10520.448 | M28: =L28-J28 -> -2.4871036 | N28: новая | T28: Кол. | U28: 320 | Y28: Кол. | Z28: 5
A29: 26 | B29: Домкрат реечный 10 т 250х270х775 мм | C29: шт | D29: 1 | E29: 10000 | F29: 0.3 | G29: 0.07 | J29: =E29*(1-F29)*(1-G29)*(1-H29) -> 6510 | K29: =J29*D29 -> 6510 | M29: =L29-J29 -> -6510 | N29: б.у. | S29: Гайка АМ24-6Н.20Х13.II.016 ГОСТ 9064-75 | T29: БУ | U29: 5026.99 | V29: =U29/U30 -> 314.18687 | X29: Машина шлифовальная угловая Makita GA6021C | Y29: БУ | Z29: 14969.57 | AA29: =Z29/Z30 -> 7484.785
A30: 27 | B30: Дрель ударная Makita HP 1640 | C30: шт | D30: 1 | E30: 3000 | I30: Не пригодны | J30: =E30 -> 3000 | K30: =J30*D30 -> 3000 | M30: =L30-J30 -> -3000 | N30: б.у. | O30: Списание | P30: 45900 | T30: Кол. | U30: 16 | Y30: Кол. | Z30: 2
A31: 28 | B31: Дрель-шуруповерт Makita DDF453SYE | C31: шт | D31: 1 | E31: 4000 | I31: Не пригодны | J31: =E31 -> 4000 | K31: =J31*D31 -> 4000 | M31: =L31-J31 -> -4000 | N31: б.у. | O31: Списание | P31: 45900 | S31: Гайка АМ24-6Н.30ХМА.II.3.016 ГОСТ 9064-75 | T31: БУ | U31: 2275.32 | V31: =U31/U32 -> 284.415 | X31: Машина шлифовальная угловая Makita GA9020 | Y31: БУ | Z31: 82701.63 | AA31: =Z31/Z32 -> 7518.33
A32: 29 | B32: Заглушка 4-15-16 12Х18Н10Т АТК 24.200.02-90 | C32: шт | D32: 2 | E32: 7122.885 | G32: 0.07 | J32: =E32*(1-F32)*(1-G32)*(1-H32) -> 6624.2831 | K32: =J32*D32 -> 13248.566 | M32: =L32-J32 -> -6624.2831 | N32: новая | T32: Кол. | U32: 8 | Y32: Кол. | Z32: 11
A33: 30 | B33: Заглушка 4-25-16 12Х18Н10Т АТК 24-200.02-90 | C33: шт | D33: 1 | E33: 9133.77 | G33: 0.07 | J33: =E33*(1-F33)*(1-G33)*(1-H33) -> 8494.4061 | K33: =J33*D33 -> 8494.4061 | M33: =L33-J33 -> -8494.4061 | N33: новая | S33: Гайка АМ24-6Н.35.II.3.016 ГОСТ 9064-75 | T33: БУ | U33: 13176.71 | V33: =U33/U34 -> 274.51479 | X33: Механизм монтажно-тяговый LMT-3220W | Y33: БУ | Z33: 122214.99 | AA33: =Z33/Z34 -> 40738.33
A34: 31 | B34: Заглушка П 159х8-20 ГОСТ 17379-2001 | C34: шт | D34: 1 | E34: 1457.7 | G34: 0.07 | J34: =E34*(1-F34)*(1-G34)*(1-H34) -> 1355.661 | K34: =J34*D34 -> 1355.661 | M34: =L34-J34 -> -1355.661 | N34: новая | T34: Кол. | U34: 48 | Y34: Кол. | Z34: 3
A35: 32 | B35: Задвижка клиновая 31нж45нж J-DN15-PN1,6 | C35: шт | D35: 1 | E35: 20754.79 | G35: 0.07 | J35: =E35*(1-F35)*(1-G35)*(1-H35) -> 19301.955 | K35: =J35*D35 -> 19301.955 | M35: =L35-J35 -> -19301.955 | N35: новая | S35: Гайка АМ36-6Н.20.II.016 ГОСТ 9064-75 | T35: БУ | U35: 31842.99 | V35: =U35/U36 -> 497.54672 | X35: Набор ключей комбинированных 6-32мм (25 предметов) | Y35: БУ | Z35: 2448.21 | AA35: =Z35/Z36 -> 2448.21
A36: 33 | B36: Клапан 15нж68нж J-15-1.6 | C36: шт | D36: 1 | E36: 16444.93 | G36: 0.07 | J36: =E36*(1-F36)*(1-G36)*(1-H36) -> 15293.785 | K36: =J36*D36 -> 15293.785 | M36: =L36-J36 -> -15293.785 | N36: новая | T36: Кол. | U36: 64 | Y36: Кол. | Z36: 1
A37: 34 | B37: Клапан 15с68нж-25-4 | C37: шт | D37: 1 | E37: 7612.56 | G37: 0.07 | J37: =E37*(1-F37)*(1-G37)*(1-H37) -> 7079.6808 | K37: =J37*D37 -> 7079.6808 | M37: =L37-J37 -> -7079.6808 | N37: новая | S37: Гайка АМ36-6Н.30ХМА.II.016 ГОСТ 9064-75 | T37: БУ | U37: 13994.8 | V37: =U37/U38 -> 583.11667 | X37: Насос КМ 100-65-200 с эл/двигателем 30,0кВт | Y37: БУ | Z37: 103090.49 | AA37: =Z37/Z38 -> 103090.49
A38: 35 | B38: Кран трехходовой RM 1/2IG х 1/2AG (G1/2внутр. — G1/2наруж.) 1,6МПа латунь ГОСТ 21345-2005 | C38: шт | D38: 18 | E38: 480.83333 | G38: 0.07 | J38: =E38*(1-F38)*(1-G38)*(1-H38) -> 447.175 | K38: =J38*D38 -> 8049.15 | M38: =L38-J38 -> -447.175 | N38: новая | T38: Кол. | U38: 24 | Y38: Кол. | Z38: 1
A39: 36 | B39: Кран шаровой 1/2 | C39: шт | D39: 9 | E39: 450.83333 | G39: 0.07 | J39: =E39*(1-F39)*(1-G39)*(1-H39) -> 419.275 | K39: =J39*D39 -> 3773.475 | M39: =L39-J39 -> -419.275 | N39: новая | S39: Гайка литая двухрожковая Г2Р90Ц 90 мм | T39: БУ | U39: 3060 | V39: =U39/U40 -> 122.4 | X39: Пила циркулярная аккумуляторная SCM 22-A | Y39: БУ | Z39: 5630 | AA39: =Z39/Z40 -> 5630
A40: 37 | B40: Кувалда 1212-0001 ГОСТ 11401-75 (2 кг) | C40: шт | D40: 1 | E40: 683.7 | H40: 0.5 | J40: =E40*(1-F40)*(1-G40)*(1-H40) -> 341.85 | K40: =J40*D40 -> 341.85 | M40: =L40-J40 -> -341.85 | N40: б.у. | T40: Кол. | U40: 25 | Y40: Кол. | Z40: 1
A41: 38 | B41: Лестница алюминиевая трехсекционная 16 ступеней | C41: шт | D41: 1 | E41: 1999.4467 | I41: Не пригодны | J41: =E41 -> 1999.4467 | K41: =J41*D41 -> 1999.4467 | M41: =L41-J41 -> -1999.4467 | N41: б.у. | O41: Списание | P41: 45900 | S41: Гайка литая двухрожковая Г2Р90Ч 90мм | T41: БУ | U41: 8742.5 | V41: =U41/U42 -> 116.56667 | X41: Привязь страховочная УП-2Ж ГОСТ Р ЕН 361-2008, ГОСТ Р ЕН 358-2008 | Y41: БУ | Z41: 20870.4 | AA41: =Z41/Z42 -> 2087.04
...

Sheet СВОД РМ Рейл
A1: Неликвиды РМ Рейл на 01.07.
A3: Неон | B3: =Неон!H39 -> 2417117.8
A4: АВМ | B4: ='АВМ-общая'!#REF! -> #REF!
A5: РЗХМ | B5: =#REF! -> #REF!
A6: ВКМ Сервис | B6: ='ВКМ Сервис'!H38 -> 1770442.3
A7: ВКМ Сталь | B7: ='ВКМ Сталь'!H12 -> 3702356.9
A8: Машзавод | B8: =Машзавод!H641 -> 10938245
A9: РВС | B9: =РВС!K181 -> 2749232.5
B10: =SUM(B3:B9) -> #REF!
